BEGIN:VCALENDAR
VERSION:2.0
PRODID:-//Squarespace Inc/Squarespace 6//v6//EN
BEGIN:VEVENT
UID:560f629de4b0edf3da1b303a@squarespace.com
DTSTAMP:20191015T024600Z
DTSTART:20191107T220000Z
DTEND:20191122T125900Z
SUMMARY:Middle School Camps
END:VEVENT
END:VCALENDAR
