BEGIN:VCALENDAR
VERSION:2.0
PRODID:-//Squarespace Inc/Squarespace 6//v6//EN
BEGIN:VEVENT
UID:5599f9e6e4b0c805c2884e8e@squarespace.com
DTSTAMP:20191126T102144Z
DTSTART:20191209T073000Z
DTEND:20191209T125900Z
SUMMARY:Annual Service of Worship
GEO:-33.735644;150.959797
LOCATION:Hillsong Convention Centre\, 1-5 Solent Circuit\, Baulkham Hills\, 
 NSW\, 2153\, Australia
END:VEVENT
END:VCALENDAR
