BEGIN:VCALENDAR
VERSION:2.0
PRODID:-//Squarespace Inc/Squarespace 6//v6//EN
BEGIN:VEVENT
UID:55d7eb8de4b07cfd7eb4e2e1@squarespace.com
DTSTAMP:20191015T024638Z
DTSTART:20191224T083000Z
DTEND:20191224T125900Z
SUMMARY:Carols by the Manger
GEO:-33.738223;151.000933
LOCATION:Castle Hill House\, 215 Old Northern Road\, Castle Hill\, NSW\, 21
 54\, Australia
END:VEVENT
END:VCALENDAR
