BEGIN:VCALENDAR
VERSION:2.0
PRODID:-//Squarespace Inc/Squarespace 6//v6//EN
BEGIN:VEVENT
UID:5599f8ebe4b03ef0821f8404@squarespace.com
DTSTAMP:20191015T044317Z
DTSTART:20200128T211500Z
DTEND:20200129T125900Z
SUMMARY:Term 1 Begins
GEO:-33.793924;151.018012
LOCATION:Sargood Hall - Redeemer Baptist School\, 2 Masons Drive\, North Pa
 rramatta\, NSW\, 2151\, Australia
END:VEVENT
END:VCALENDAR
