BEGIN:VCALENDAR
VERSION:2.0
PRODID:-//Squarespace Inc/Squarespace 6//v6//EN
BEGIN:VEVENT
UID:56d3e57501dbae76ad99c46a@squarespace.com
DTSTAMP:20190801T033937Z
DTSTART:20191014T213000Z
DTEND:20191015T125900Z
SUMMARY:Term 4 Begins
GEO:-33.793924;151.018011
LOCATION:Sargood Hall\, 2 Masons Drive\, North Parramatta\, NSW\, 2151\, Au
 stralia
END:VEVENT
END:VCALENDAR
