BEGIN:VCALENDAR
VERSION:2.0
PRODID:-//Squarespace Inc/Squarespace 6//v6//EN
BEGIN:VEVENT
UID:569b6762a976af8774e9b54b@squarespace.com
DTSTAMP:20181214T070611Z
DTSTART:20190204T073000Z
DTEND:20190204T125900Z
SUMMARY:K-4 Parent Information Evening
GEO:-33.793924;151.018011
LOCATION:Redeemer Baptist School\, 2 Masons Drive\, North Parramatta
END:VEVENT
END:VCALENDAR
