BEGIN:VCALENDAR
VERSION:2.0
PRODID:-//Squarespace Inc/Squarespace 6//v6//EN
BEGIN:VEVENT
UID:56a17b62c647adb9db9721c2@squarespace.com
DTSTAMP:20200210T103048Z
DTSTART:20200312T211500Z
DTEND:20200321T125900Z
SUMMARY:Module 2 Camp
END:VEVENT
END:VCALENDAR
