BEGIN:VCALENDAR
VERSION:2.0
PRODID:-//Squarespace Inc/Squarespace 6//v6//EN
BEGIN:VEVENT
UID:56a180f7df40f37f5ea05db4@squarespace.com
DTSTAMP:20181214T070631Z
DTSTART:20190227T211500Z
DTEND:20190228T125900Z
SUMMARY:School Swimming Carnival (K-12)
GEO:-33.863649;151.045725
LOCATION:AUBURN RUTH EVERUSS AQUATIC CENTRE\, Wyatt Park\, Church Street\, 
 Lidcombe NSW 2141\, Australia
END:VEVENT
END:VCALENDAR
