BEGIN:VCALENDAR
VERSION:2.0
PRODID:-//Squarespace Inc/Squarespace 6//v6//EN
BEGIN:VEVENT
UID:56d3e8f47da24f7ba212dba3@squarespace.com
DTSTAMP:20190903T013522Z
DTSTART:20190904T100000Z
DTEND:20190907T135900Z
SUMMARY:Drama Club Performances
END:VEVENT
END:VCALENDAR
