BEGIN:VCALENDAR
VERSION:2.0
PRODID:-//Squarespace Inc/Squarespace 6//v6//EN
BEGIN:VEVENT
UID:56d3ba521bbee09a4bd15c52@squarespace.com
DTSTAMP:20190605T012237Z
DTSTART:20190621T230000Z
DTEND:20190622T135900Z
SUMMARY:Gala Day
GEO:-33.793924;151.018011
LOCATION:Redeemer Baptist School\, 2 Masons Drive\, North Parramatta\, NSW\
 , 2151\, Australia
END:VEVENT
END:VCALENDAR
