BEGIN:VCALENDAR
VERSION:2.0
PRODID:-//Squarespace Inc/Squarespace 6//v6//EN
BEGIN:VEVENT
UID:56d3e66662cd9444cfd2ca5f@squarespace.com
DTSTAMP:20190801T033906Z
DTSTART:20190822T000000Z
DTEND:20190822T135900Z
SUMMARY:Kindergarten Open Day
GEO:-33.793924;151.018011
LOCATION:Sargood Hall\, 2 Masons Drive\, North Parramatta\, NSW\, 2151\, Au
 stralia
END:VEVENT
END:VCALENDAR
