BEGIN:VCALENDAR
VERSION:2.0
PRODID:-//Squarespace Inc/Squarespace 6//v6//EN
BEGIN:VEVENT
UID:56d3ed3620c647cdb304ebdc@squarespace.com
DTSTAMP:20181214T065234Z
DTSTART:20190505T223000Z
DTEND:20190507T135900Z
SUMMARY:School Photographs
GEO:-33.793924;151.018011
LOCATION:Redeemer Baptist School\, 2 Masons Drive\, North Parramatta\, NSW\
 , 2151\, Australia
END:VEVENT
END:VCALENDAR
