BEGIN:VCALENDAR
VERSION:2.0
PRODID:-//Squarespace Inc/Squarespace 6//v6//EN
BEGIN:VEVENT
UID:56a181d85a56688d80af7c69@squarespace.com
DTSTAMP:20181214T070639Z
DTSTART:20190304T073000Z
DTEND:20190304T093000Z
SUMMARY:Senior School Parent Information Evening (9-12)
GEO:-33.793924;151.018011
LOCATION:Redeemer Baptist School\, 2 Masons Drive\, North Parramatta\, NSW\
 , 2151\, Australia
END:VEVENT
END:VCALENDAR
