BEGIN:VCALENDAR
VERSION:2.0
PRODID:-//Squarespace Inc/Squarespace 6//v6//EN
BEGIN:VEVENT
UID:56d3ea8e7da24f7ba212e0fd@squarespace.com
DTSTAMP:20190801T033846Z
DTSTART:20190808T000000Z
DTEND:20190808T135900Z
SUMMARY:Years 1-4 Open Day
GEO:-33.793924;151.018011
LOCATION:Sargood Hall\, 2 Masons Drive\, North Parramatta\, NSW\, 2151\, Au
 stralia
END:VEVENT
END:VCALENDAR
