BEGIN:VCALENDAR
VERSION:2.0
PRODID:-//Squarespace Inc/Squarespace 6//v6//EN
BEGIN:VEVENT
UID:56a17dc1fb36b135e0da1041@squarespace.com
DTSTAMP:20200210T103113Z
DTSTART:20200214T060000Z
DTEND:20200214T125900Z
SUMMARY:Family Film Night
GEO:-33.793924;151.018011
LOCATION:Redeemer Baptist School\, 2 Masons Drive\, North Parramatta\, NSW\
 , 2151\, Australia
END:VEVENT
END:VCALENDAR
