BEGIN:VCALENDAR
VERSION:2.0
PRODID:-//Squarespace Inc/Squarespace 6//v6//EN
BEGIN:VEVENT
UID:56e207574c2f8593e011ac95@squarespace.com
DTSTAMP:20190801T033930Z
DTSTART:20190926T030000Z
DTEND:20190926T135900Z
SUMMARY:Year 12 Farewell Chapel Service / Formal
GEO:-33.793924;151.018011
LOCATION:Sargood Hall\, 2 Masons Drive\, North Parramatta\, NSW\, 2151\, Au
 stralia
END:VEVENT
END:VCALENDAR
