BEGIN:VCALENDAR
VERSION:2.0
PRODID:-//Squarespace Inc/Squarespace 6//v6//EN
BEGIN:VEVENT
UID:56e2d11662cd9417dcd46ca2@squarespace.com
DTSTAMP:20200210T103304Z
DTSTART:20200412T000000Z
DTEND:20200412T135900Z
SUMMARY:Easter Sunday Service
GEO:-33.793924;151.018011
LOCATION:Redeemer Baptist School\, 2 Masons Drive\, North Parramatta\, NSW\
 , 2151\, Australia
END:VEVENT
END:VCALENDAR
