BEGIN:VCALENDAR
VERSION:2.0
PRODID:-//Squarespace Inc/Squarespace 6//v6//EN
BEGIN:VEVENT
UID:56e2d35c07eaa0e3b898b38e@squarespace.com
DTSTAMP:20200210T103250Z
DTSTART:20200409T233000Z
DTEND:20200410T135900Z
SUMMARY:Good Friday Service
GEO:-33.793924;151.018011
LOCATION:Redeemer Baptist School\, 2 Masons Drive\, North Parramatta\, NSW\
 , 2151\, Australia
END:VEVENT
END:VCALENDAR
