BEGIN:VCALENDAR
VERSION:2.0
PRODID:-//Squarespace Inc/Squarespace 6//v6//EN
BEGIN:VEVENT
UID:56a184240ab377b2678ab67d@squarespace.com
DTSTAMP:20200210T103320Z
DTSTART:20200408T030000Z
DTEND:20200408T044500Z
SUMMARY:Easter Chapel Service
GEO:-33.793924;151.018011
LOCATION:Redeemer Baptist School\, 2 Masons Drive\, North Parramatta\, NSW\
 , 2151\, Australia
END:VEVENT
END:VCALENDAR
