BEGIN:VCALENDAR
VERSION:2.0
PRODID:-//Squarespace Inc/Squarespace 6//v6//EN
BEGIN:VEVENT
UID:56a183370ab377b2678aaf89@squarespace.com
DTSTAMP:20200210T103207Z
DTSTART:20200309T073000Z
DTEND:20200309T125900Z
SUMMARY:Middle School Parent Information Evening (5-8)
GEO:-33.793924;151.018011
LOCATION:Redeemer Baptist School\, 2 Masons Drive\, North Parramatta\, NSW\
 , 2151\, Australia
END:VEVENT
END:VCALENDAR
