BEGIN:VCALENDAR
VERSION:2.0
PRODID:-//Squarespace Inc/Squarespace 6//v6//EN
BEGIN:VEVENT
UID:56a18bb3b204d5650da0f8bd@squarespace.com
DTSTAMP:20200210T103401Z
DTSTART:20200427T221500Z
DTEND:20200428T135900Z
SUMMARY:Term 2 Begins
GEO:-33.793924;151.018011
LOCATION:Redeemer Baptist School\, 2 Masons Drive\, North Parramatta\, NSW\
 , 2151\, Australia
END:VEVENT
END:VCALENDAR
