BEGIN:VCALENDAR
VERSION:2.0
PRODID:-//Squarespace Inc/Squarespace 6//v6//EN
BEGIN:VEVENT
UID:56a18910841aba12ab7b7c7c@squarespace.com
DTSTAMP:20181214T070653Z
DTSTART:20190411T030000Z
DTEND:20190411T135900Z
SUMMARY:Term 1 Concluding Chapel Service
GEO:-33.793924;151.018011
LOCATION:Redeemer Baptist School\, 2 Masons Drive\, North Parramatta\, NSW\
 , 2151\, Australia
END:VEVENT
END:VCALENDAR
