BEGIN:VCALENDAR
VERSION:2.0
PRODID:-//Squarespace Inc/Squarespace 6//v6//EN
BEGIN:VEVENT
UID:573d6c1662cd94ec580dc13c@squarespace.com
DTSTAMP:20160523T001544Z
DTSTART:20160609T233000Z
DTEND:20160610T052900Z
SUMMARY:Watoto Children's Choir
GEO:-33.793843;151.017976
LOCATION:Sargood Hall\, 2-12 Masons Drive\, North Parramatta\, NSW\, 2151\, 
 Australia
END:VEVENT
END:VCALENDAR
