BEGIN:VCALENDAR
VERSION:2.0
PRODID:-//Squarespace Inc/Squarespace 6//v6//EN
BEGIN:VEVENT
UID:560f2285e4b0e75bc493d3e3@squarespace.com
DTSTAMP:20191015T024615Z
DTSTART:20191224T223000Z
DTEND:20191225T125900Z
SUMMARY:Christmas Service
GEO:-33.793924;151.018012
LOCATION:Sargood Hall\, 2 Masons Drive\, North Parramatta\, NSW\, 2151\, Au
 stralia
END:VEVENT
END:VCALENDAR
