BEGIN:VCALENDAR
VERSION:2.0
PRODID:-//Squarespace Inc/Squarespace 6//v6//EN
BEGIN:VEVENT
UID:56d3b8d062cd9444cfd1d257@squarespace.com
DTSTAMP:20190605T011854Z
DTSTART:20190627T030000Z
DTEND:20190627T135900Z
SUMMARY:Term 2 Concluding Chapel Service
GEO:-33.793924;151.018011
LOCATION:Sargood Hall\, 2 Masons Drive\, North Parramatta\, NSW\, 2151\, Au
 stralia
END:VEVENT
END:VCALENDAR
