BEGIN:VCALENDAR
VERSION:2.0
PRODID:-//Squarespace Inc/Squarespace 6//v6//EN
BEGIN:VEVENT
UID:56d3ec3845bf216eb2de3c64@squarespace.com
DTSTAMP:20190605T011902Z
DTSTART:20190627T210000Z
DTEND:20190706T135900Z
SUMMARY:Years 11-12 Study Camp
END:VEVENT
END:VCALENDAR
