BEGIN:VCALENDAR
VERSION:2.0
PRODID:-//Squarespace Inc/Squarespace 6//v6//EN
BEGIN:VEVENT
UID:5742409a7da24f40d7572953@squarespace.com
DTSTAMP:20160523T074336Z
DTSTART:20160603T090000Z
DTEND:20160603T135900Z
SUMMARY:Inaugural Principal's Dinner for Parents and Guardians in Sargood H
 all at 7pm
GEO:-33.793924;151.018011
LOCATION:Sargood Hall\, 2 Masons Drive\, North Parramatta\, NSW\, 2151\, Au
 stralia
END:VEVENT
END:VCALENDAR
