BEGIN:VCALENDAR
VERSION:2.0
PRODID:-//Squarespace Inc/Squarespace 6//v6//EN
BEGIN:VEVENT
UID:56d3eb6d3c44d801f47be0a2@squarespace.com
DTSTAMP:20190606T214403Z
DTSTART:20190606T230000Z
DTEND:20190607T135900Z
SUMMARY:School Athletics Carnival
GEO:-33.84801;151.06488
LOCATION:Homebush Warm Up Arena\, Sydney Olympic Park NSW 2127\, Australia
END:VEVENT
END:VCALENDAR
