BEGIN:VCALENDAR
VERSION:2.0
PRODID:-//Squarespace Inc/Squarespace 6//v6//EN
BEGIN:VEVENT
UID:56d3e5391bbee09a4bd2403e@squarespace.com
DTSTAMP:20190605T011910Z
DTSTART:20190722T221500Z
DTEND:20190723T135900Z
SUMMARY:Term 3 Begins
GEO:-33.793924;151.018011
LOCATION:Sargood Hall\, 2 Masons Drive\, North Parramatta\, NSW\, 2151\, Au
 stralia
END:VEVENT
END:VCALENDAR
