BEGIN:VCALENDAR
VERSION:2.0
PRODID:-//Squarespace Inc/Squarespace 6//v6//EN
BEGIN:VEVENT
UID:57765b01725e2555f21cfed3@squarespace.com
DTSTAMP:20160701T120651Z
DTSTART:20160708T120000Z
DTEND:20160713T135900Z
SUMMARY:Boggabilla Trip
GEO:-28.609827;150.359655
LOCATION:Boggabilla Street\, Boggabilla\, NSW\, 2409\, Australia
END:VEVENT
END:VCALENDAR
