BEGIN:VCALENDAR
VERSION:2.0
PRODID:-//Squarespace Inc/Squarespace 6//v6//EN
BEGIN:VEVENT
UID:5b39664f8a922dbccfa9f510@squarespace.com
DTSTAMP:20190614T001423Z
DTSTART:20190619T000000Z
DTEND:20190621T135900Z
SUMMARY:JUNIOR DRAMA CLUB PERFORMANCES
END:VEVENT
END:VCALENDAR
