BEGIN:VCALENDAR
VERSION:2.0
PRODID:-//Squarespace Inc/Squarespace 6//v6//EN
BEGIN:VEVENT
UID:5b396aa0758d4623ef4ce40c@squarespace.com
DTSTAMP:20180702T001046Z
DTSTART:20180713T220000Z
DTEND:20180719T135900Z
SUMMARY:Kempsey Trip
GEO:-31.060477;152.848198
LOCATION:Kempsey
END:VEVENT
END:VCALENDAR
