BEGIN:VCALENDAR
VERSION:2.0
PRODID:-//Squarespace Inc/Squarespace 6//v6//EN
BEGIN:VEVENT
UID:5b963906c2241b07791ef7f8@squarespace.com
DTSTAMP:20190801T033924Z
DTSTART:20190909T080000Z
DTEND:20190909T135900Z
SUMMARY:Years 8\, 10 &amp\; 11 Subject Selection Night
END:VEVENT
END:VCALENDAR
